BEGIN:VCALENDAR
VERSION:2.0
PRODID:-//LATISPÁNICA CULTURAL ASSCIATION - ECPv6.15.20//NONSGML v1.0//EN
CALSCALE:GREGORIAN
METHOD:PUBLISH
X-WR-CALNAME:LATISPÁNICA CULTURAL ASSCIATION
X-ORIGINAL-URL:https://www.latispanica.org
X-WR-CALDESC:Events for LATISPÁNICA CULTURAL ASSCIATION
REFRESH-INTERVAL;VALUE=DURATION:PT1H
X-Robots-Tag:noindex
X-PUBLISHED-TTL:PT1H
BEGIN:VTIMEZONE
TZID:America/Halifax
BEGIN:DAYLIGHT
TZOFFSETFROM:-0400
TZOFFSETTO:-0300
TZNAME:ADT
DTSTART:20240310T060000
END:DAYLIGHT
BEGIN:STANDARD
TZOFFSETFROM:-0300
TZOFFSETTO:-0400
TZNAME:AST
DTSTART:20241103T050000
END:STANDARD
BEGIN:DAYLIGHT
TZOFFSETFROM:-0400
TZOFFSETTO:-0300
TZNAME:ADT
DTSTART:20250309T060000
END:DAYLIGHT
BEGIN:STANDARD
TZOFFSETFROM:-0300
TZOFFSETTO:-0400
TZNAME:AST
DTSTART:20251102T050000
END:STANDARD
BEGIN:DAYLIGHT
TZOFFSETFROM:-0400
TZOFFSETTO:-0300
TZNAME:ADT
DTSTART:20260308T060000
END:DAYLIGHT
BEGIN:STANDARD
TZOFFSETFROM:-0300
TZOFFSETTO:-0400
TZNAME:AST
DTSTART:20261101T050000
END:STANDARD
BEGIN:DAYLIGHT
TZOFFSETFROM:-0400
TZOFFSETTO:-0300
TZNAME:ADT
DTSTART:20270314T060000
END:DAYLIGHT
BEGIN:STANDARD
TZOFFSETFROM:-0300
TZOFFSETTO:-0400
TZNAME:AST
DTSTART:20271107T050000
END:STANDARD
END:VTIMEZONE
BEGIN:VEVENT
DTSTART;TZID=America/Halifax:20250910T000000
DTEND;TZID=America/Halifax:20251029T235959
DTSTAMP:20260419T213918
CREATED:20250812T220634Z
LAST-MODIFIED:20251003T210227Z
UID:2096-1757462400-1761782399@www.latispanica.org
SUMMARY:Latispánica Dance School: Salsa
DESCRIPTION:Spice up your dancing with our Salsa Intermediate/Advanced series—an individual class designed to boost your confidence\, technique\, and musicality! Explore the rich footwork and vibrant movements of Salsa while developing your own unique style. Led by experienced instructor Ruth Perez\, this class focuses on solo work to help you refine rhythm\, timing\, and body coordination—no partner needed. \nThis is an individual class\, and each ticket covers one participant. Come ready to move\, learn\, and connect with the music in a fun\, energetic environment! \nClass Schedule: \n\nWednesday\, September 10\, 2025 – 6:00 PM\nWednesday\, September 17\, 2025 – 6:00 PM\nWednesday\, September 24\, 2025 – 6:00 PM\nWednesday\, October 1\, 2025 – 6:00 PM\nWednesday\, October 8\, 2025 – 6:00 PM CANCELLED\nWednesday\, October 15\, 2025 – 6:00 PM\nWednesday\, October 22\, 2025 – 6:00 PM\nWednesday\, October 29\, 2025 – 6:00 PM\nWednesday\, November 5\, 2025 – 6:00 PM ADDED\n\nCancellations\, Changes & Refunds \nLatispánica reserves the right to cancel classes with insufficient registration. In such cases\, fees for canceled classes will be refunded. Registration cancellations must be made within five days of the class start date to allow time to fill the spot. Withdrawal notices should be emailed to dance@latispanica.org (not to the instructor) before the first class scheduled after your registration date. \nLatispánica also reserves the right to change or substitute instructors as needed. \n\nREGISTRATION:\n\nI have read and acknowledged of Latispanica Policies and Dance School Policies
URL:https://www.latispanica.org/upcomingevents/latispanica-dance-school-salsa/
LOCATION:Chocolate Lake Community Centre\, 1014 Purcell's Cove Road\, Halifax\, Nova Scotia\, B3N 1R2\, Canada
ORGANIZER;CN="Latispanica Cultural Association":MAILTO:info@latispanica.org
END:VEVENT
BEGIN:VEVENT
DTSTART;TZID=America/Halifax:20250910T000000
DTEND;TZID=America/Halifax:20251029T235959
DTSTAMP:20260419T213918
CREATED:20250812T220946Z
LAST-MODIFIED:20251028T153124Z
UID:2099-1757462400-1761782399@www.latispanica.org
SUMMARY:Latispánica Dance School: Samba
DESCRIPTION:Step into the energy of our Samba Intermediate/Advanced series—an individual class built to challenge and inspire! Brazilian Samba is known for its fast footwork\, powerful hip movements\, and vibrant presence. In this class\, you’ll focus on technique\, stamina\, and body control to make your Samba look effortless and feel electric. \nLed by experienced instructor Maria Jose Marteli\, this solo-focused series will help you refine rhythm\, precision\, and stage-ready expression. \nEach ticket is for one participant only. Come ready to sweat\, grow\, and dance to the infectious beats of Brazil in a high-energy\, supportive environment! \n\n\n\n\n\n\nClass Schedule: \n\nWednesday\, September 10\, 2025 – 7:00 PM\nWednesday\, September 17\, 2025 – 7:00 PM\nWednesday\, September 24\, 2025 – 7:00 PM\nWednesday\, October 1\, 2025 – 7:00 PM\nWednesday\, October 8\, 2025 – 7:00 PM CANCELLED\nWednesday\, October 15\, 2025 – 7:00 PM\nWednesday\, October 22\, 2025 – 7:00 PM\nWednesday\, October 29\, 2025 – 7:00 PM\nWednesday\, November 5\, 2025 – 7:00 PM ADDED\n\nCancellations\, Changes & Refunds \nLatispánica reserves the right to cancel classes with insufficient registration. In such cases\, fees for canceled classes will be refunded. Registration cancellations must be made within five days of the class start date to allow time to fill the spot. Withdrawal notices should be emailed to dance@latispanica.org (not to the instructor) before the first class scheduled after your registration date. \nLatispánica also reserves the right to change or substitute instructors as needed. \n\nREGISTRATION:\n\nI have read and acknowledged of Latispanica Policies and Dance School Policies
URL:https://www.latispanica.org/upcomingevents/latispanica-dance-school-samba/
LOCATION:Chocolate Lake Community Centre\, 1014 Purcell's Cove Road\, Halifax\, Nova Scotia\, B3N 1R2\, Canada
ORGANIZER;CN="Latispanica Cultural Association":MAILTO:info@latispanica.org
END:VEVENT
BEGIN:VEVENT
DTSTART;TZID=America/Halifax:20251015T200000
DTEND;TZID=America/Halifax:20260513T220000
DTSTAMP:20260419T213918
CREATED:20251003T205518Z
LAST-MODIFIED:20251014T194459Z
UID:2280-1760558400-1778709600@www.latispanica.org
SUMMARY:RECREATIONAL SOCCER LEAGUES
DESCRIPTION:RECREATIONAL SOCCER LEAGUES ADULTS \nWednesday Indoor Soccer\nStart: 15 Oct 2025 until 15 May 2026\nDay : Every Wednesday\nTime: 8 PM – 10 PM\nField: Hardwood floor\nCost for the season : $180  email-transfer sent to uriconnections@gmail.com\nDrop in: $10\nLocation: Citadel Community Centre\,\n1955 Trollope St\, Halifax\, NS B3H 0A4 \nIf you have problems to send the money let us know at 902-817-4544\, so we can keep your spot and you can pay the first day of the game. \n  \nMiercoles fútbol de Sala\nEmpiesa: 15 Oct 2025 until 15 May 2026\nDia: Todos los Miercoles\nHora: 8 PM – 10 PM\nTipo de cancha: piso de madera\nCosto por la estación: $180 email-transferencia enviarlo a uriconnections@gmail.com\nCosto por juego: $10\nUbicacion: Citadel Community Centre\,1955 Trollope St\, Halifax\, NS B3H 0A4 \nSi tiene problemas de embiar la registración contactese al 902-817-4544
URL:https://www.latispanica.org/upcomingevents/recreational-soccer-leagues/
LOCATION:Citadel Community Centre\, Halifax\, Nova Scotia\, Canada
ATTACH;FMTTYPE=image/png:https://www.latispanica.org/web/wp-content/uploads/2025/10/LIGA-DE-FUTBOL-3.png
ORGANIZER;CN="Latispanica Cultural Association":MAILTO:info@latispanica.org
END:VEVENT
BEGIN:VEVENT
DTSTART;TZID=America/Halifax:20260114T180000
DTEND;TZID=America/Halifax:20260311T190000
DTSTAMP:20260419T213918
CREATED:20251226T143638Z
LAST-MODIFIED:20260306T155508Z
UID:2356-1768413600-1773255600@www.latispanica.org
SUMMARY:Latispánica Dance School: Samba
DESCRIPTION:Step into the energy of our Samba series—an individual class built to challenge and inspire! Brazilian Samba is known for its fast footwork\, powerful hip movements\, and vibrant presence. In this class\, you’ll focus on technique\, stamina\, and body control to make your Samba look effortless and feel electric. \nLed by experienced instructor Maria Jose Marteli\, this solo-focused series will help you refine rhythm\, precision\, and stage-ready expression. \nEach ticket is for one participant only. Come ready to sweat\, grow\, and dance to the infectious beats of Brazil in a high-energy\, supportive environment! \n\n\n\n\n\n\nClass Schedule: \n\nWednesday\, January 14\, 2026 – 6:00 PM-7:00PM\nWednesday\, January 21\, 2026 – 6:00 PM-7:00PM\nWednesday\, January 28\, 2026 – 6:00 PM-7:00PM\nWednesday\, February 4\, 2026 – 6:00 PM-7:00PM\nWednesday\, February 11\, 2026 – 6:00 PM-7:00PM\nWednesday\, February 18\, 2026 – 6:00 PM-7:00PM\nWednesday\, February 25\, 2026 – 6:00 PM-7:00PM\nWednesday\, March 4\, 2026 – 6:00 PM-7:00PM\nWednesday\, March 11\, 2026 – 7:00 PM-8:00PM\n\nCancellations\, Changes & Refunds \nLatispánica reserves the right to cancel classes with insufficient registration. In such cases\, fees for canceled classes will be refunded. Registration cancellations must be made within five days of the class start date to allow time to fill the spot. Withdrawal notices should be emailed to dance@latispanica.org (not to the instructor) before the first class scheduled after your registration date. \nLatispánica also reserves the right to change or substitute instructors as needed. \n\nREGISTRATION:\n\nI have read and acknowledged of Latispanica Policies and Dance School Policies
URL:https://www.latispanica.org/upcomingevents/latispanica-dance-school-samba-2/
LOCATION:Chocolate Lake Community Centre\, 1014 Purcell's Cove Road\, Halifax\, Nova Scotia\, B3N 1R2\, Canada
ATTACH;FMTTYPE=image/jpeg:https://www.latispanica.org/web/wp-content/uploads/2025/12/2025-FALL-DANCING-SCHOOL.jpg
ORGANIZER;CN="Latispanica Cultural Association":MAILTO:info@latispanica.org
END:VEVENT
BEGIN:VEVENT
DTSTART;TZID=America/Halifax:20260114T190000
DTEND;TZID=America/Halifax:20260311T200000
DTSTAMP:20260419T213918
CREATED:20251226T144344Z
LAST-MODIFIED:20260306T155224Z
UID:2359-1768417200-1773259200@www.latispanica.org
SUMMARY:Latispánica Dance School: Latin Urbano Rhythms
DESCRIPTION:Step into the power and attitude of our Urbano Dance Series—an individual class designed to energize\, challenge\, and inspire! Urbano music brings together today’s hottest Latin urban rhythms\, blending Latin\, Caribbean\, African\, and U.S. influences. This high-energy style features genres such as reggaeton\, Latin trap\, dembow\, funk carioca\, merengue urbano\, Latin hip-hop\, and RKT/cachengue. \nIn this class\, dancers will focus on musicality\, groove\, body control\, and dynamic movement while developing confidence and strong performance quality. \nLed by experienced instructor Antonella Mora\, this solo-focused series is perfect for dancers who love modern Latin vibes and want to move with power\, precision\, and style in a supportive\, high-energy environment. \nEach ticket is for one participant only. Come ready to sweat\, grow\, and connect with the infectious beats of today’s urban Latin music! \nClass Schedule: \n\nWednesday\, January 14\, 2026 – 7:00 PM-8:00PM\nWednesday\, January 21\, 2026 – 7:00 PM-8:00PM\nWednesday\, January 28\, 2026 – 7:00 PM-8:00PM\nWednesday\, February 4\, 2026 – 7:00 PM-8:00PM\nWednesday\, February 11\, 2026 – 7:00 PM-8:00PM\nWednesday\, February 18\, 2026 – 7:00 PM-8:00PM\nWednesday\, February 25\, 2026 – 7:00 PM-8:00PM\nWednesday\, March 4\, 2026 – 7:00 PM-8:00PM\nWednesday\, March 11\, 2026 – 7:00 PM-8:00PM\n\nCancellations\, Changes & Refunds: \nLatispánica reserves the right to cancel classes with insufficient registration. In such cases\, fees for canceled classes will be refunded. Registration cancellations must be made within five days of the class start date to allow time to fill the spot. Withdrawal notices should be emailed to dance@latispanica.org (not to the instructor) before the first class scheduled after your registration date. \nLatispánica also reserves the right to change or substitute instructors as needed. \n\nREGISTRATION:\n\nI have read and acknowledged of Latispanica Policies and Dance School Policies
URL:https://www.latispanica.org/upcomingevents/latispanica-dance-school-latin-urbano-rhythms/
LOCATION:Chocolate Lake Community Centre\, 1014 Purcell's Cove Road\, Halifax\, Nova Scotia\, B3N 1R2\, Canada
ATTACH;FMTTYPE=image/jpeg:https://www.latispanica.org/web/wp-content/uploads/2025/12/2026-WINTER-DANCING-SCHOOL.jpg
ORGANIZER;CN="Latispanica Cultural Association":MAILTO:info@latispanica.org
END:VEVENT
BEGIN:VEVENT
DTSTART;TZID=America/Halifax:20260329T010000
DTEND;TZID=America/Halifax:20260329T170000
DTSTAMP:20260419T213918
CREATED:20260220T134951Z
LAST-MODIFIED:20260321T150045Z
UID:2503-1774746000-1774803600@www.latispanica.org
SUMMARY:2026 VIVA VOLLEY TOURNAMENT
DESCRIPTION:Latispanica is organizing 2026 VIVA VOLLEY ⚽️\, a recreational volleyball game for adults (18+) to share and enjoy a moment of entertainment and friendship. The game will occur on March 29th\, space is limited\, registration will close on March 20th\, 2026 or when capacity is reached (max 8 teams). It’s time to team up and become the champions of  2026 VIVA VOLLEY !🏆\n\nIf you are an individual looking for a team\, you can still sign up\, and we will help you form a team of 6.\nGet ready for VIVA VOLLEY ⚽️ and enjoy playing a fun volleyball game! \n\n–\n\nLatispanica organiza VIVA VOLLEY 2026\, un partido de voleyball recreativo para adultos (mayores de 18 años) para compartir y disfrutar de un momento de entretenimiento y amistad. El partido se jugará el 29 de marzo\, con cupo limitado. Las inscripciones cierran el 20 de marzo de 2026 o cuando se complete el aforo (max 8 equipos). ¡Es hora de formar equipo y convertirse en los campeones de VIVA VOLLEY 2026! \nSi buscas un equipo\, aún puedes inscribirte y te ayudaremos a formar un equipo de 6 personas.\n¡Prepárate para VIVA VOLLEY y disfruta de un divertido partido de voleibol! \n\n\n\nEvent Time: MARCH 29\, 2026 @ 1:00 PM 5:00 PM \nEvent Address:   Citadel Community Centre\, 1955 Trollope St\, Halifax\, NS B3H 0A4\nPrice: $15 per person  \n\n(Sign up as a team\, 6 min\, or an individual! We’ll find you a team!)\n\nThank you.\n\n\n\n\n\nLatispanica Cultural Association\n\n\nREGISTRATION HERE AFTER PAYMENT
URL:https://www.latispanica.org/upcomingevents/2026-viva-volley-tournament/
LOCATION:NS
ATTACH;FMTTYPE=image/png:https://www.latispanica.org/web/wp-content/uploads/2026/02/volley.png
ORGANIZER;CN="Latispanica Cultural Association":MAILTO:info@latispanica.org
END:VEVENT
BEGIN:VEVENT
DTSTART;TZID=America/Halifax:20260402T183000
DTEND;TZID=America/Halifax:20260402T193000
DTSTAMP:20260419T213918
CREATED:20260323T144622Z
LAST-MODIFIED:20260323T144622Z
UID:2662-1775154600-1775158200@www.latispanica.org
SUMMARY:RBC Webinar: Tax Tips for Newcomers
DESCRIPTION:Tax Tips for Newcomers Webinar is here! 💼✨ \nWe’re excited to invite our community to this bilingual webinar where we’ll explore essential tax tips and help you better understand how to navigate the Canadian tax system. \nWhether you’re new to Canada or just want to feel more confident during tax season\, this session is designed for you. \n📅 Thursday\, April 2nd\, 2026🕡 6:30 PM – 7:30 PM \nBring your questions and curiosity. Let’s make taxes simpler together and empower our community with the knowledge to succeed. 🇨🇦📊 \n✨✨✨✨✨✨✨✨✨✨✨ \n¡Webinar de Impuestos y Consejos para Newcomers! 💼✨ \nNos emociona invitar a nuestra comunidad a este webinar bilingüe\, donde exploraremos consejos fiscales esenciales y aprenderás cómo navegar el sistema tributario canadiense. \nYa sea que seas nuevo en Canadá o simplemente quieras sentirte más seguro en temporada de impuestos\, este espacio es para ti. \n📅 Jueves\, 2 de abril de 2026🕡 6:30 PM – 7:30 PM \nTrae tus preguntas y ganas de aprender. Vamos a simplificar los impuestos juntos y fortalecer a nuestra comunidad con conocimiento. 🇨🇦📊
URL:https://www.latispanica.org/upcomingevents/rbc-webinar-tax-tips-for-newcomers/
LOCATION:online
ATTACH;FMTTYPE=image/jpeg:https://www.latispanica.org/web/wp-content/uploads/2026/03/WhatsApp-Image-2026-03-17-at-10.11.24-PM.jpeg
ORGANIZER;CN="Latispanica Cultural Association":MAILTO:info@latispanica.org
END:VEVENT
BEGIN:VEVENT
DTSTART;TZID=America/Halifax:20260404T190000
DTEND;TZID=America/Halifax:20260404T220000
DTSTAMP:20260419T213918
CREATED:20260318T002836Z
LAST-MODIFIED:20260318T002836Z
UID:2642-1775329200-1775340000@www.latispanica.org
SUMMARY:Karaoke Latino & Open Mic
DESCRIPTION:Karaoke Latino & Open Mic is back! 🎤✨ \nWe’re excited to open this space once again for our community to come together\, share music\, talent\, and good vibes. Whether you love to sing\, perform\, or simply cheer others on\, this night is for you. \n🎟 Early Bird: Limited to the first 20 people\n🎟 Regular Price: Available for the remaining 20 spots \nBring your friends\, your favorite songs\, and your energy. Let’s celebrate our culture\, voices\, and community together. 💃🏽🎶 \nCome celebrate with us — we can’t wait to hear you! \n✨✨✨✨✨✨✨✨✨✨✨ \n¡Karaoke Latino & Open Mic está de vuelta! 🎤✨ \nNos emociona volver a abrir este espacio para que nuestra comunidad se reúna\, comparta música\, talento y buena vibra. Ya sea que te encante cantar\, presentarte o simplemente apoyar y disfrutar del talento de los demás\, esta noche es para ti. \n🎟 Early Bird: limitado a las primeras 20 personas🎟 Precio regular: disponible para los 20 cupos restantes \nTrae a tus amigos\, tus canciones favoritas y toda tu energía. Vamos a celebrar juntos nuestra cultura\, nuestras voces y nuestra comunidad. 💃🏽🎶 \nVen a celebrar con nosotros — ¡ya queremos escucharlos!
URL:https://www.latispanica.org/upcomingevents/karaoke-latino-open-mic/
LOCATION:Taquitos Cocina de México\, 12 Ella Ln. Unit 104\, Halifax\, NS\, B4B 2M8\, Canada
ATTACH;FMTTYPE=image/jpeg:https://www.latispanica.org/web/wp-content/uploads/2026/03/WhatsApp-Image-2026-03-16-at-10.16.50-AM.jpeg
ORGANIZER;CN="Latispanica Cultural Association":MAILTO:info@latispanica.org
END:VEVENT
BEGIN:VEVENT
DTSTART;TZID=America/Halifax:20260408T190000
DTEND;TZID=America/Halifax:20260527T200000
DTSTAMP:20260419T213918
CREATED:20260323T143536Z
LAST-MODIFIED:20260323T143536Z
UID:2657-1775674800-1779912000@www.latispanica.org
SUMMARY:Latispánica Dance School: Samba
DESCRIPTION:Step into the energy of our Samba series—an individual class built to challenge and inspire! Brazilian Samba is known for its fast footwork\, powerful hip movements\, and vibrant presence. In this class\, you’ll focus on technique\, stamina\, and body control to make your Samba look effortless and feel electric. \nLed by experienced instructor Maria Jose Marteli\, this solo-focused series will help you refine rhythm\, precision\, and stage-ready expression. \nEach ticket is for one participant only. Come ready to sweat\, grow\, and dance to the infectious beats of Brazil in a high-energy\, supportive environment! \n\n\n\n\n\n\nClass Schedule: \n\nWednesday\, April 08\, 2026 – 7:00 PM-8:00PM\nWednesday\, April 15\, 2026 – 7:00 PM-8:00PM\nWednesday\, April 22\, 2026 – 7:00 PM-8:00PM\nWednesday\, April 29\, 2026 – 7:00 PM-8:00PM\nWednesday\, May 06\, 2026 – 7:00 PM-8:00PM\nWednesday\, May 13\, 2026 – 7:00 PM-8:00PM\nWednesday\, May 20\, 2026 – 7:00 PM-8:00PM\nWednesday\, May 27\, 2026 – 7:00 PM-8:00PM\n\nCancellations\, Changes & Refunds \nLatispánica reserves the right to cancel classes with insufficient registration. In such cases\, fees for canceled classes will be refunded. Registration cancellations must be made within five days of the class start date to allow time to fill the spot. Withdrawal notices should be emailed to dance@latispanica.org (not to the instructor) before the first class scheduled after your registration date. \nLatispánica also reserves the right to change or substitute instructors as needed. \n\nREGISTRATION:\n\nI have read and acknowledged of Latispanica Policies and Dance School Policies
URL:https://www.latispanica.org/upcomingevents/latispanica-dance-school-samba-3/
LOCATION:Chocolate Lake Community Centre\, 1014 Purcell's Cove Road\, Halifax\, Nova Scotia\, B3N 1R2\, Canada
ATTACH;FMTTYPE=image/jpeg:https://www.latispanica.org/web/wp-content/uploads/2025/12/2025-FALL-DANCING-SCHOOL.jpg
ORGANIZER;CN="Latispanica Cultural Association":MAILTO:info@latispanica.org
END:VEVENT
BEGIN:VEVENT
DTSTART;TZID=America/Halifax:20260418T121500
DTEND;TZID=America/Halifax:20260418T141500
DTSTAMP:20260419T213918
CREATED:20260401T150146Z
LAST-MODIFIED:20260401T150146Z
UID:2743-1776514500-1776521700@www.latispanica.org
SUMMARY:Cooking Class: Asado Negro
DESCRIPTION:Asado Negro Cooking Class is here! 🇻🇪🍽️✨ \nWe’re excited to invite our community to a special collaboration with Everyone Everyday\, where Venezuelan ambassadors Darwin and Tulio Quintero will guide us through preparing the beloved national dish\, asado negro. \nA true classic of Venezuelan celebrations\, this dish features tender beef slowly caramelized and braised in a rich\, sweet-and-savory sauce — full of flavor and tradition. \n📅 Saturday\, April 18th🕛 12:15 PM – 2:15 PM📍 Everyone Everyday – 2169 Gottingen St. \nNo registration required — just drop in! \nCome experience the flavors of Venezuela\, learn something new\, and connect with the community through food. 🇻🇪❤️ \n✨✨✨✨✨✨✨✨✨✨✨ \n¡Clase de cocina: Asado Negro! 🇻🇪🍽️✨ \nNos emociona invitar a nuestra comunidad a esta colaboración especial con Everyone Everyday\, donde los embajadores venezolanos Darwin y Tulio Quintero nos enseñarán a preparar uno de los platos más queridos de Venezuela: el asado negro. \nUn clásico de las celebraciones venezolanas\, este plato consiste en carne de res tierna\, caramelizada lentamente y cocinada en una salsa rica\, con un balance perfecto entre lo dulce y lo salado. \n📅 Sábado\, 18 de abril🕛 12:15 PM – 2:15 PM📍 Everyone Everyday – 2169 Gottingen St. \nNo necesitas registrarte — ¡solo llega! \nVen a disfrutar los sabores de Venezuela\, aprender algo nuevo y conectar con la comunidad a través de la comida. 🇻🇪❤️
URL:https://www.latispanica.org/upcomingevents/cooking-class-asado-negro/
LOCATION:Every One Every Day\, 2169 Gottingen St\, Halifax\, NS\, B3K 3B5\, Canada
ATTACH;FMTTYPE=image/jpeg:https://www.latispanica.org/web/wp-content/uploads/2026/04/asado-negro.jpeg
ORGANIZER;CN="Latispanica Cultural Association":MAILTO:info@latispanica.org
END:VEVENT
BEGIN:VEVENT
DTSTART;TZID=America/Halifax:20260423T183000
DTEND;TZID=America/Halifax:20260423T193000
DTSTAMP:20260419T213918
CREATED:20260323T145157Z
LAST-MODIFIED:20260323T145157Z
UID:2666-1776969000-1776972600@www.latispanica.org
SUMMARY:RBC Webinar: Creating a Business Plan
DESCRIPTION:Creating a Business Plan Webinar is here! 📊✨ \nWe’re excited to invite our community to this bilingual webinar where you’ll learn how to build a strong business plan that clearly defines your goals\, opportunities\, and financial projections. \nWhether you’re starting a new idea or looking to organize your vision\, this session is designed to help you move forward with confidence. \n📅 Thursday\, April 23rd\, 2026🕡 6:30 PM – 7:30 PM \nBring your ideas and ambition. Let’s turn your vision into a clear and actionable plan together. 🚀📈 \n✨✨✨✨✨✨✨✨✨✨✨ \n¡Webinar: Creando un Plan de Negocios! 📊✨ \nNos emociona invitar a nuestra comunidad a este webinar bilingüe\, donde aprenderás a construir un plan de negocios sólido que defina claramente tus objetivos\, oportunidades y proyecciones financieras. \nYa sea que estés comenzando una idea o buscando organizar tu visión\, este espacio es para ayudarte a avanzar con claridad y confianza. \n📅 Jueves\, 23 de abril de 2026🕡 6:30 PM – 7:30 PM \nTrae tus ideas y tus ganas de crecer. Vamos a convertir tu visión en un plan claro y accionable. 🚀📈
URL:https://www.latispanica.org/upcomingevents/rbc-webinar-creating-a-business-plan/
LOCATION:online
ATTACH;FMTTYPE=image/jpeg:https://www.latispanica.org/web/wp-content/uploads/2026/03/WhatsApp-Image-2026-03-17-at-10.11.24-PM1.jpeg
ORGANIZER;CN="Latispanica Cultural Association":MAILTO:info@latispanica.org
END:VEVENT
BEGIN:VEVENT
DTSTART;TZID=America/Halifax:20260425T143000
DTEND;TZID=America/Halifax:20260425T160000
DTSTAMP:20260419T213918
CREATED:20260326T144529Z
LAST-MODIFIED:20260326T145727Z
UID:2702-1777127400-1777132800@www.latispanica.org
SUMMARY:Zumba Fiesta 2026
DESCRIPTION:Zumba Fiesta is here! 💃🏽🔥 \nGet ready for an unforgettable afternoon full of energy\, music\, and pure Latin vibes! Join us for over an hour of Zumba led by amazing instructors who will have you dancing\, sweating\, and smiling the whole time. \nWhether you’re a beginner or already love Zumba\, this event is all about having fun\, staying active\, and connecting with the community. \n📅 Saturday\, April 25\, 2026🕝 2:30 PM – 4:00 PM📍 George Dixon Centre \n🎟 Online price: $15🎟 At the door price: $20 \nBring your energy\, your friends\, and your best dance moves. Let’s turn this into a true fiesta together! 🎶💥 \n✨✨✨✨✨✨✨✨✨✨✨ \n¡Zumba Fiesta llegó! 💃🏽🔥 \nPrepárate para una tarde llena de energía\, música y pura vibra latina. Disfruta de más de una hora de Zumba junto a increíbles instructoras que te harán bailar\, sudar y gozar de principio a fin. \nNo importa si eres principiante o ya amas Zumba\, este evento es para divertirte\, activarte y conectar con la comunidad. \n📅 Sábado\, 25 de abril de 2026🕝 2:30 PM – 4:00 PM📍 George Dixon Centre \n🎟 Precio online: $15\n🎟 Precio en la puerta: $20 \nTrae tu energía\, tus amigos y tus mejores pasos. ¡Vamos a prender esta fiesta juntos! 🎶💥
URL:https://www.latispanica.org/upcomingevents/zumba-fiesta-2026/
LOCATION:George Dixon Community Centre\, 2502 Brunswick St\, Halifax\, Nova Scotia\, B3K 2Z6\, Canada
ATTACH;FMTTYPE=image/jpeg:https://www.latispanica.org/web/wp-content/uploads/2026/03/zumba-fiesta-2026.jpeg
ORGANIZER;CN="Latispanica Cultural Association":MAILTO:info@latispanica.org
END:VEVENT
BEGIN:VEVENT
DTSTART;TZID=America/Halifax:20260514T183000
DTEND;TZID=America/Halifax:20260514T193000
DTSTAMP:20260419T213918
CREATED:20260323T145727Z
LAST-MODIFIED:20260323T145727Z
UID:2669-1778783400-1778787000@www.latispanica.org
SUMMARY:RBC Webinar: Grow Your Business
DESCRIPTION:Grow Your Business Webinar is here! 🚀✨ \nWe’re excited to invite our community to this bilingual webinar where you’ll learn practical strategies to grow your business\, attract customers\, and strengthen your marketing and online presence. \nWhether you’re just starting or looking to take your business to the next level\, this session is designed to give you tools you can apply right away. \n📅 Thursday\, May 14th\, 2026🕡 6:30 PM – 7:30 PM \nBring your ideas and your drive to grow. Let’s build stronger businesses together and empower our community to succeed. 📈💼 \n✨✨✨✨✨✨✨✨✨✨✨ \n¡Webinar: Haz Crecer Tu Negocio! 🚀✨ \nNos emociona invitar a nuestra comunidad a este webinar bilingüe\, donde aprenderás estrategias prácticas para hacer crecer tu negocio\, atraer clientes y fortalecer tu marketing y presencia online. \nYa sea que estés comenzando o buscando llevar tu negocio al siguiente nivel\, este espacio está diseñado para darte herramientas que puedas aplicar de inmediato. \n📅 Jueves\, 14 de mayo de 2026🕡 6:30 PM – 7:30 PM \nTrae tus ideas y tus ganas de crecer. Vamos a construir negocios más fuertes y seguir impulsando a nuestra comunidad. 📈💼
URL:https://www.latispanica.org/upcomingevents/rbc-webinar-grow-your-business/
LOCATION:online
ATTACH;FMTTYPE=image/jpeg:https://www.latispanica.org/web/wp-content/uploads/2026/03/grow-your-business.jpeg
ORGANIZER;CN="Latispanica Cultural Association":MAILTO:info@latispanica.org
END:VEVENT
END:VCALENDAR